BEGIN:VCALENDAR
VERSION:2.0
PRODID:-// - ECPv6.15.20//NONSGML v1.0//EN
CALSCALE:GREGORIAN
METHOD:PUBLISH
X-ORIGINAL-URL:https://ds.alexrawska.pl
X-WR-CALDESC:Wydarzenia dla 
REFRESH-INTERVAL;VALUE=DURATION:PT1H
X-Robots-Tag:noindex
X-PUBLISHED-TTL:PT1H
BEGIN:VTIMEZONE
TZID:UTC
BEGIN:STANDARD
TZOFFSETFROM:+0000
TZOFFSETTO:+0000
TZNAME:UTC
DTSTART:20250101T000000
END:STANDARD
END:VTIMEZONE
BEGIN:VEVENT
DTSTART;TZID=UTC:20260308T100000
DTEND;TZID=UTC:20260308T140000
DTSTAMP:20260421T002635
CREATED:20260208T161500Z
LAST-MODIFIED:20260208T162154Z
UID:589-1772964000-1772978400@ds.alexrawska.pl
SUMMARY:Turniej dla Kobiet na Dzień Kobiet
DESCRIPTION:
URL:https://ds.alexrawska.pl/event/turniej-dla-kobiet-na-dzien-kobiet/
LOCATION:Dom Sąsiedzki „Zakopianka”\, Zakopiańska 40\, Gdańsk\, pomorskie\, 80-288\, Poland
ORGANIZER;CN="Stowarzyszenie Przyjaci%C3%B3%C5%82 Piecek-Migowa w Gda%C5%84sku Dom S%C4%85siedzki":MAILTO:dspieckimigowo@wp.pl
END:VEVENT
END:VCALENDAR